BEGIN:VCALENDAR
VERSION:2.0
PRODID:-//wp-events-plugin.com//7.2.3.1//EN
BEGIN:VEVENT
UID:23@freshtable.org
DTSTART;TZID=America/New_York:20240821T180000
DTEND;TZID=America/New_York:20240821T193000
DTSTAMP:20240521T204912Z
URL:https://freshtable.org/events/fresh-table-community-pop-up-2024-08-21/
SUMMARY:Fresh Table Community Pop Up
DESCRIPTION:An Open Table with Plenty of Fresh Food to Share\nFREE Fresh Pr
 oduce\, Meat\, and Dairy Products\n\n3rd Wednesday of Each Month\n6:00pm t
 o 7:30pm\n\nSpring\, Summer\, and Fall Pop Up Locations\n1st National Bank
  of Scotia Parking Lot 201 Mohawk Ave in Scotia\n1st National Bank of Scot
 ia Parking Lot at 240 Saratoga Road in Glenville\n\nWinter Pop Up Location
 s\nEmpire State Aerosciences Museum 250 Ruby Chase Drive in Glenville\nSch
 enectady County Public Library Scotia Branch 14 Mohawk Ave in Scotia
ATTACH;FMTTYPE=image/jpeg:https://freshtable.org/wp-content/uploads/2023/1
 0/fresh-table-pop-up-1.jpg
CATEGORIES:Pop Up Food Pantry
END:VEVENT
BEGIN:VTIMEZONE
TZID:America/New_York
X-LIC-LOCATION:America/New_York
BEGIN:DAYLIGHT
DTSTART:20240310T030000
TZOFFSETFROM:-0500
TZOFFSETTO:-0400
TZNAME:EDT
END:DAYLIGHT
END:VTIMEZONE
END:VCALENDAR